BEGIN:VCALENDAR
VERSION:2.0
PRODID:-//wp-events-plugin.com//7.2.3.1//EN
TZID:Europe/Paris
X-WR-TIMEZONE:Europe/Paris
BEGIN:VEVENT
UID:1833@cafeculturelcitoyen.org
DTSTART;TZID=Europe/Paris:20220922T193000
DTEND;TZID=Europe/Paris:20220922T220000
DTSTAMP:20220907T074641Z
URL:https://cafeculturelcitoyen.org/evenements/les-jeudis-du-3c-linvisibil
 isation-des-femmes-exilees-par-le-cafe-migrant/
SUMMARY:Les jeudis du 3C : L'invisibilisation des femmes exilées\, par le 
 Café Migrant
DESCRIPTION:\nNous avons la joie de vous annoncer la reprise du Café Migra
 nt. Le thème qui inaugure cette nouvelle saison est celui de l'exil au f
 éminin. En effet\, partir en exil met le corps à nu. Les migrant.e.s n'o
 nt pas de valise\, rarement leurs papiers d'identité. Les autorités des 
 pays traversés repoussent parfois les personnes\, elles s'attaquent à de
 s corps. Il s'agit très vite pour celles et ceux qui partent de survivre 
 et donc de préserver un corps en danger. Ce danger est d'autant plus gran
 d lorsque ce corps est un corps de femme. Quels sont les enjeux spécifiqu
 es pour les femmes?\nJe vous propose d'y réfléchir avec Vanessa Cavaller
 i\, doctorante à l'AMU\, spécialiste de la migration au féminin\, et av
 ec des bénévoles qui se sont consacrés au sujet. Ces interventions sero
 nt ponctuées d'intermèdes musicaux.\n
ATTACH;FMTTYPE=image/jpeg:https://cafeculturelcitoyen.org/wp-content/uploa
 ds/2022/09/Capture-decran-2022-09-02-114225.jpg
END:VEVENT
BEGIN:VTIMEZONE
TZID:Europe/Paris
X-LIC-LOCATION:Europe/Paris
BEGIN:DAYLIGHT
DTSTART:20220327T030000
TZOFFSETFROM:+0100
TZOFFSETTO:+0200
TZNAME:CEST
END:DAYLIGHT
END:VTIMEZONE
END:VCALENDAR