BEGIN:VCALENDAR
VERSION:2.0
PRODID:-//wp-events-plugin.com//7.2.3.1//EN
TZID:Europe/Paris
X-WR-TIMEZONE:Europe/Paris
BEGIN:VEVENT
UID:2030@cafeculturelcitoyen.org
DTSTART;TZID=Europe/Paris:20230209T190000
DTEND;TZID=Europe/Paris:20230209T220000
DTSTAMP:20230129T203419Z
URL:https://cafeculturelcitoyen.org/evenements/les-jeudis-du-3c-les-violen
 ces-faites-aux-femmes-avec-la-ligue-des-droits-de-lhomme/
SUMMARY:Les Jeudis du 3C - Les violences faites aux femmes\, avec la Ligue 
 des Droits de l'Homme
DESCRIPTION:Les violences faites aux femmes depuis des millénaires sont la
  manifestation du sexisme et du machisme présents dans la plupart des soc
 iétés comme résultant d'un pouvoir patriarcal dominant. Ces comportemen
 ts sont à relier aux autres discriminations dont les femmes sont victimes
 \, notamment dans les domaines économique et social (organisation du trav
 ail\, inégalités de rémunération\, accès aux responsabilités).\nNous
  parlerons des différentes formes de violence\, comment il faut il faut t
 ravailler à les identifier et les prévenir\, dire combien en parler est 
 nécessaire\, que faire en situation d'urgence\, comment agir\, que l'on s
 oit victime ou citoyen témoin.
ATTACH;FMTTYPE=image/jpeg:https://cafeculturelcitoyen.org/wp-content/uploa
 ds/2023/01/Capture-decran-2023-01-29-124855.png
END:VEVENT
BEGIN:VTIMEZONE
TZID:Europe/Paris
X-LIC-LOCATION:Europe/Paris
BEGIN:STANDARD
DTSTART:20221030T020000
TZOFFSETFROM:+0200
TZOFFSETTO:+0100
TZNAME:CET
END:STANDARD
END:VTIMEZONE
END:VCALENDAR