BEGIN:VCALENDAR
VERSION:2.0
PRODID:-//wp-events-plugin.com//7.2.3.1//EN
TZID:Europe/Paris
X-WR-TIMEZONE:Europe/Paris
BEGIN:VEVENT
UID:1940@cafeculturelcitoyen.org
DTSTART;TZID=Europe/Paris:20221117T190000
DTEND;TZID=Europe/Paris:20221117T210000
DTSTAMP:20221114T190441Z
URL:https://cafeculturelcitoyen.org/evenements/les-jeudis-du-3c-les-conste
 llations-mythiques-de-sarah-maldoror/
SUMMARY:Les jeudis du 3C - Les constellations mythologiques de Sarah Maldor
 or
DESCRIPTION:Marguerite Sarah Ducados\, dite Sarah MALDOROR est l'une des to
 utes premières femmes noires à filmer l'Afrique . Née en France\, méti
 sse\, elle est aux premières loges de la décolonisation en Afrique\, et 
 témoignera avec force de cette période\, de ces contradictions\, de ses 
 enjeux pour les différents acteurs-trices. Amie d'Aimé Césaire\, LS Sen
 ghor\, Frantz Fanon ou Richard Wright\, elle se place à l'intersection de
 s problématiques décoloniales\, racialistes et féministes.\n\nMaya Mihi
 ndou\, illustratrice\, éditrice et journaliste animera cette soirée en n
 ous immergeant dans l'époque au moyen de musique\, cartes illustrées et 
 d'une conférence débat participative. Artiste autodidacte\, son travail 
 aborde la question des identités précaires\, déracinées\, fragiles et 
 mouvantes. Elle vit et travaille à Marseille et contribue\, entre autres\
 , aux revues Ballast\, Panthère Première\, The Funambulist. Elle accompa
 gne également\, en images ou vidéos\, le travail d'autres artistes (Patr
 ick Chamoiseau\, Camille Hardouin\, Myriam Mihindou\, Dorothée Munyaneza.
 \n\nElle a contribué à décorer et illustrer la grande retrospective fil
 mographique de Sarah Maldoror au Palais de Tokyo\, à Paris en novembre 20
 21\n\n&nbsp\;
ATTACH;FMTTYPE=image/jpeg:https://cafeculturelcitoyen.org/wp-content/uploa
 ds/2022/10/Capture-decran-2022-10-26-004223.png
END:VEVENT
BEGIN:VTIMEZONE
TZID:Europe/Paris
X-LIC-LOCATION:Europe/Paris
BEGIN:STANDARD
DTSTART:20221030T020000
TZOFFSETFROM:+0200
TZOFFSETTO:+0100
TZNAME:CET
END:STANDARD
END:VTIMEZONE
END:VCALENDAR