BEGIN:VCALENDAR
VERSION:2.0
PRODID:-//wp-events-plugin.com//7.2.3.1//EN
TZID:Europe/Paris
X-WR-TIMEZONE:Europe/Paris
BEGIN:VEVENT
UID:2246@cafeculturelcitoyen.org
DTSTART;TZID=Europe/Paris:20230420T193000
DTEND;TZID=Europe/Paris:20230420T213000
DTSTAMP:20230418T193441Z
URL:https://cafeculturelcitoyen.org/evenements/les-jeudis-du-3c-le-syndrom
 e-du-patron-de-gauche-avec-arthur-brault-moreau/
SUMMARY:Les Jeudis du 3C - "Un pays qui se tient sage"\, projection de film
  et débat
DESCRIPTION:Au moment où ce film a été fait\, la répression policière 
 était déjà féroce. Macron II ne fera que rendre systémique la répres
 sion comme unique façon de gouverner.\n\n&nbsp\;\n\nAlors que s’accrois
 sent la colère et le mécontentement devant les injustices sociales\, de 
 nombreuses manifestations citoyennes sont l’objet d’une répression de
  plus en plus brutale. UN PAYS QUI SE TIENT SAGE invite des citoyens à ap
 profondir\, interroger et confronter leurs points de vue sur l’ordre soc
 ial et la légitimité de l’usage de la violence par l’État.\n\nGrand
  Prix et Prix du Jury de la presse internationale à My French Film Festiv
 al 2022
ATTACH;FMTTYPE=image/jpeg:https://cafeculturelcitoyen.org/wp-content/uploa
 ds/2023/03/poster-un-pays-qui.jpg
END:VEVENT
BEGIN:VTIMEZONE
TZID:Europe/Paris
X-LIC-LOCATION:Europe/Paris
BEGIN:DAYLIGHT
DTSTART:20230326T030000
TZOFFSETFROM:+0100
TZOFFSETTO:+0200
TZNAME:CEST
END:DAYLIGHT
END:VTIMEZONE
END:VCALENDAR