BEGIN:VCALENDAR
VERSION:2.0
PRODID:-//wp-events-plugin.com//7.2.3.1//EN
TZID:Europe/Paris
X-WR-TIMEZONE:Europe/Paris
BEGIN:VEVENT
UID:1841@cafeculturelcitoyen.org
DTSTART;TZID=Europe/Paris:20220929T200000
DTEND;TZID=Europe/Paris:20220929T213000
DTSTAMP:20220903T093947Z
URL:https://cafeculturelcitoyen.org/evenements/les-jeudis-du-3c-le-predica
 teur-spectacle-de-nicolas-rochette/
SUMMARY:Les jeudis du 3C - Le prédicateur\, spectacle de Nicolas Rochette
DESCRIPTION:Créé en 2019 pour le Fest'Hiver d'Avignon\, un mois avant la 
 pandémie\, Le Prédicateur aborde par un point de vue corrosif le thème 
 de l'écologie. Le texte s'affranchit d'une idée consensuelle de la Natur
 e pour reconsidérer le rapport que l'espèce humaine entretient avec elle
 . Quel environnement tentons-nous de préserver ? Celui des ratons-laveurs
  canadiens ? Celui des planctons de Malaisie ? Voulons-nous vraiment sauve
 r les moustiques ? Et les rats ? Les cafards ? Sommes-nous prêts à nous 
 séparer de tout notre plastique pour « sauver » la planète ? Voulons-n
 ous vraiment être des animaux ?\nLe Prédicateur est porté par un person
 nage profondément nihiliste qui considère qu'il n'y a rien à sauver\, c
 ar le bateau est déjà en train de couler. Ce qui n'est pas grave : autan
 t en profiter avant qu'il ne soit trop tard.\nLe texte flirte avec les th
 èmes de la collapsologie qui prévoit un effondrement des sociétés dans
  les années à venir. Mais là où la collapsologie met en garde et prép
 are d'éventuelles solutions\, le personnage accepte cette situation avec 
 joie et la désire même : enfin l'humanité se voit offerte la chance d'u
 n obstacle qui la fera peut-être évoluer et même s'unir contre la Natur
 e.\nDans un second temps\, le texte prévoit que la planche de salut de l
 ’humanité sera le un monde virtuel. Le seul monde « réel » de l’hu
 manité qui n’appartient qu’à elle même et dans lequel elle s’affr
 anchirait des limites biologiques de sa condition animale.\n« Adieu sueur
 \, Adieu faim et soif\, plus rien à foutre de l’humain bestial soumis a
 u loi de mère Nature »\nLe Prédicateur.
ATTACH;FMTTYPE=image/jpeg:https://cafeculturelcitoyen.org/wp-content/uploa
 ds/2022/09/Capture-decran-2022-09-03-113847.jpg
END:VEVENT
BEGIN:VTIMEZONE
TZID:Europe/Paris
X-LIC-LOCATION:Europe/Paris
BEGIN:DAYLIGHT
DTSTART:20220327T030000
TZOFFSETFROM:+0100
TZOFFSETTO:+0200
TZNAME:CEST
END:DAYLIGHT
END:VTIMEZONE
END:VCALENDAR