BEGIN:VCALENDAR
VERSION:2.0
PRODID:-//wp-events-plugin.com//7.2.3.1//EN
TZID:Europe/Paris
X-WR-TIMEZONE:Europe/Paris
BEGIN:VEVENT
UID:2292@cafeculturelcitoyen.org
DTSTART;TZID=Europe/Paris:20230608T190000
DTEND;TZID=Europe/Paris:20230608T210000
DTSTAMP:20230525T194644Z
URL:https://cafeculturelcitoyen.org/evenements/les-jeudis-du-3c-lassemblee
 -citoyenne-des-imaginaires-reprenez-le-pouvoir-en-inventant-de-nouveaux-im
 aginaires/
SUMMARY:Les jeudis du 3C - L'Assemblée Citoyenne des Imaginaires - Reprene
 z le pouvoir en inventant de nouveaux imaginaires
DESCRIPTION:\n\nUne expérience citoyenne inédite...\n\n\n\n\n\n\n\nÀ quo
 i ressemblerait une société qui aurait réussi ses transitions ?\n\nC’
 est la mission de l’Assemblée citoyenne des imaginaires\, à laquelle n
 ous vous invitons à contribuer.\n\nReprenez le pouvoir en inventant de no
 uveaux imaginaires d’une société compatible avec le vivant. \n\nL’ob
 jectif est de produire une œuvre culturelle populaire qui prend racine da
 ns le vécu\, les aspirations et les sensibilités des citoyens… et qui 
 soit à la hauteur des grands enjeux de notre époque\, alliant la pédago
 gie\, le rêve collectif et le divertissement.\n\nAu coeur de ce projet co
 llaboratif : une consultation nationale\, des ateliers de co-écriture\, d
 es rencontres en présence de scénaristes professionnels et bien d’autr
 es surprises…\n\nFaisons récit pour faire société. Rejoignez l’aven
 ture.\n\n\n\n\n\n
ATTACH;FMTTYPE=image/jpeg:https://cafeculturelcitoyen.org/wp-content/uploa
 ds/2023/05/AFFICHE-AVEC-TEL.jpg
END:VEVENT
BEGIN:VTIMEZONE
TZID:Europe/Paris
X-LIC-LOCATION:Europe/Paris
BEGIN:DAYLIGHT
DTSTART:20230326T030000
TZOFFSETFROM:+0100
TZOFFSETTO:+0200
TZNAME:CEST
END:DAYLIGHT
END:VTIMEZONE
END:VCALENDAR