BEGIN:VCALENDAR
VERSION:2.0
PRODID:-//wp-events-plugin.com//7.2.3.1//EN
TZID:Europe/Paris
X-WR-TIMEZONE:Europe/Paris
BEGIN:VEVENT
UID:2238@cafeculturelcitoyen.org
DTSTART;TZID=Europe/Paris:20230330T190000
DTEND;TZID=Europe/Paris:20230330T210000
DTSTAMP:20230326T134447Z
URL:https://cafeculturelcitoyen.org/evenements/les-jeudis-du-3c-la-jineolo
 ji-ou-sciences-des-femmes-ce-que-le-kurdistan-apporte-aux-luttes-feministe
 s/
SUMMARY:Les Jeudis du 3C : La Jineolojî\, ou "Sciences des Femmes". Ce que
  le Kurdistan apporte aux luttes féministes
DESCRIPTION:La Jineolojî aspire à révéler l'histoire des femmes et à r
 aviver leurs savoirs et valeurs\, largement occultées par les sciences et
  l'Histoire officielle patriarcale. Son objectif est de permettre aux femm
 es\, en tant que réalité sociale\, de développer une connaissance de le
 urs situation\, de se réapproprier les éléments essentiels de leurs vie
 s et de résoudre la crise du XXIème siècle.\n\nElle est à ce titre une
  méthodologie scientifique et historique alternative à celles issues du 
 point de vue hégémonique  de "l'homme occidental" qui au lieu d'émanci
 per\, contrôle et enferme.\n\nLa soirée sera animée par des membres du 
 Groupe Jineolojî Provence.
ATTACH;FMTTYPE=image/jpeg:https://cafeculturelcitoyen.org/wp-content/uploa
 ds/2023/03/5342910eb13598374bc85c7daef57045.jpg
END:VEVENT
BEGIN:VTIMEZONE
TZID:Europe/Paris
X-LIC-LOCATION:Europe/Paris
BEGIN:DAYLIGHT
DTSTART:20230326T030000
TZOFFSETFROM:+0100
TZOFFSETTO:+0200
TZNAME:CEST
END:DAYLIGHT
END:VTIMEZONE
END:VCALENDAR