BEGIN:VCALENDAR
VERSION:2.0
PRODID:-//wp-events-plugin.com//7.2.3.1//EN
TZID:Europe/Paris
X-WR-TIMEZONE:Europe/Paris
BEGIN:VEVENT
UID:1908@cafeculturelcitoyen.org
DTSTART;TZID=Europe/Paris:20221013T200000
DTEND;TZID=Europe/Paris:20221013T220000
DTSTAMP:20220929T143434Z
URL:https://cafeculturelcitoyen.org/evenements/les-jeudis-du-3c-la-france-
 construit-elle-les-conditions-pour-ne-plus-se-nourrir/
SUMMARY:Les Jeudis du 3C - "La France construit-elle les conditions pour ne
  plus se nourrir ?"
DESCRIPTION:"La France construit-elle les conditions pour ne plus se nourri
 r ?" \n\nLa menace qui se cache derrière cette question est bien réelle.
  Partout sur le territoire\, des communes se privent volontairement ou non
  des moyens d'assurer leur autonomie alimentaire. La loi Territoires stipu
 le pourtant que chaque ville ou village de France doit s'organiser pour fa
 voriser son autonomie alimentaire\, c'est à dire réduire sa dépendance 
 à l'importation de produits venant d'ailleurs. La crise du Covid a montr
 é qu'une ville comme Marseille par exemple ne disposait que de deux à tr
 ois jours de stocks\, et dans certains quartiers\, il y a eu menace réell
 e de famine.\n\nPourtant communes et campagnes continuent de bétonner leu
 rs surfaces agricoles ou de les vendre à des spéculateurs privés.\n\nPo
 ur traiter de ces questions des militant-es de Terres vives Pertuis\, de l
 a Confédération paysanne\, des Zapatatistes de la ZAP de Pertuis pour no
 us interpeller et imaginer des solutions
ATTACH;FMTTYPE=image/jpeg:https://cafeculturelcitoyen.org/wp-content/uploa
 ds/2022/09/265934595_3724061664484594_8638172513109324329_n.jpg
END:VEVENT
BEGIN:VTIMEZONE
TZID:Europe/Paris
X-LIC-LOCATION:Europe/Paris
BEGIN:DAYLIGHT
DTSTART:20220327T030000
TZOFFSETFROM:+0100
TZOFFSETTO:+0200
TZNAME:CEST
END:DAYLIGHT
END:VTIMEZONE
END:VCALENDAR