BEGIN:VCALENDAR
VERSION:2.0
PRODID:-//wp-events-plugin.com//7.2.3.1//EN
TZID:Europe/Paris
X-WR-TIMEZONE:Europe/Paris
BEGIN:VEVENT
UID:2241@cafeculturelcitoyen.org
DTSTART;TZID=Europe/Paris:20230406T190000
DTEND;TZID=Europe/Paris:20230406T220000
DTSTAMP:20230327T072608Z
URL:https://cafeculturelcitoyen.org/evenements/les-jeudis-du-3c-la-commune
 -refleurira-spectacle-de-corentin-coko/
SUMMARY:Les Jeudis du 3C - "La Commune refleurira". Spectacle de Corentin C
 oko
DESCRIPTION:Lecture musicale où Coko nous fait revivre l'histoire de La Co
 mmune de Paris à travers ses poètes : textes et chansons de Victor Hugo\
 , Eugène Pottier\, Louise Michel\, Emile Zola\, Arthur Rimbaud\, Jules Va
 llès\, Jean-Baptiste Clément...\n\n\nCe spectacle est à l'origine de l'
 album collectif "La Commune Refleurira".
ATTACH;FMTTYPE=image/jpeg:https://cafeculturelcitoyen.org/wp-content/uploa
 ds/2023/03/Capture-decran-2023-03-27-085621.png
END:VEVENT
BEGIN:VTIMEZONE
TZID:Europe/Paris
X-LIC-LOCATION:Europe/Paris
BEGIN:DAYLIGHT
DTSTART:20230326T030000
TZOFFSETFROM:+0100
TZOFFSETTO:+0200
TZNAME:CEST
END:DAYLIGHT
END:VTIMEZONE
END:VCALENDAR