BEGIN:VCALENDAR
VERSION:2.0
PRODID:-//wp-events-plugin.com//7.2.3.1//EN
TZID:Europe/Paris
X-WR-TIMEZONE:Europe/Paris
BEGIN:VEVENT
UID:2257@cafeculturelcitoyen.org
DTSTART;TZID=Europe/Paris:20230504T193000
DTEND;TZID=Europe/Paris:20230504T213000
DTSTAMP:20230427T081529Z
URL:https://cafeculturelcitoyen.org/evenements/les-jeudis-du-3c-jazz-et-lu
 ttes-antiracistes-aux-etats-unis/
SUMMARY:Les Jeudis du 3C - Jazz et luttes antiracistes aux Etats-unis
DESCRIPTION:Musiciens\, spectateurs\, critiques s’accordent pour faire de
  «  1959 l’année qui changea le jazz  ». Pour les musiciens\, c
 ’est l’affirmation d’un point de non-retour  : la musique est pol
 itique\, culturelle\, autant qu’esthétique\, écho conscient des discou
 rs de Malcolm X et origine de ceux de Stokely Carmichael... Pour la critiq
 ue – blanche – c’est un cauchemar qui devient réalité  : conten
 u jusque là par un discours proprement colonial\, raciste\, condescendant
 \, le jazz déborde de tous les côtés\, incontrôlable\, irrécupérable
  surtout. Pour le spectateur\, il va s’agir de choisir son camp. Shepp\,
  Mingus\, Taylor\, Leroi Jones\, nomment l’ennemi  : le capitalisme\,
  l’impérialisme\, le racisme crasse des États-Unis.\n\nPrésenté par 
 Benjamin Koskas
ATTACH;FMTTYPE=image/jpeg:https://cafeculturelcitoyen.org/wp-content/uploa
 ds/2023/04/Capture-decran-2023-04-24-095238.png
END:VEVENT
BEGIN:VTIMEZONE
TZID:Europe/Paris
X-LIC-LOCATION:Europe/Paris
BEGIN:DAYLIGHT
DTSTART:20230326T030000
TZOFFSETFROM:+0100
TZOFFSETTO:+0200
TZNAME:CEST
END:DAYLIGHT
END:VTIMEZONE
END:VCALENDAR