BEGIN:VCALENDAR
VERSION:2.0
PRODID:-//wp-events-plugin.com//7.2.3.1//EN
TZID:Europe/Paris
X-WR-TIMEZONE:Europe/Paris
BEGIN:VEVENT
UID:2321@cafeculturelcitoyen.org
DTSTART;TZID=Europe/Paris:20230713T193000
DTEND;TZID=Europe/Paris:20230713T220000
DTSTAMP:20230629T202636Z
URL:https://cafeculturelcitoyen.org/evenements/les-jeudis-du-3c-interdit-a
 ux-chiens-et-aux-italiens-projection/
SUMMARY:Les Jeudis du 3C - Interdit aux chiens et aux Italiens - projection
DESCRIPTION:\n\nDébut du XXe siècle\, dans le nord de l’Italie\, à Ugh
 ettera\, berceau de la famille Ughetto. La vie dans cette région étant d
 evenue très difficile\, les Ughetto rêvent de tout recommencer à l’é
 tranger. Selon la légende\, Luigi Ughetto traverse alors les Alpes et ent
 ame une nouvelle vie en France\, changeant à jamais le destin de sa famil
 le tant aimée. Son petit-fils retrace ici leur histoire.\n\nAvec les voix
  de Ariane Ascaride et Alain Ughetto\n\nRevue de presse\n\nTélérama : S
 es aïeuls ont fui la pauvreté en Italie et migré en France. Le cinéast
 e retrace leur odyssée et leur rend hommage dans ce film magnifique\, pé
 tri de poésie.\n\nL’écran fantastique : Alternant l’humour façon c
 omédie sociale italienne de la grande époque (Monicelli\, Scola\, Risi)\
 , sujets graves [...] et effets de style lorgnant du côté du cinéma fan
 tastique des origines à la Méliès\, l’auteur nous invite à un fabule
 ux voyage poético-réaliste dans les trésors enfouis de son passé dont 
 la puissance d’évocation vise à concilier histoire intime et universal
 ité dans ce que la condition humaine contient de plus précieux et de plu
 s inaltérable : la transmission et la mémoire.\n\nFranceinfo Culture : 
 Avec "Interdit aux chiens et aux Italiens"\, Alain Ughetto fait de l'histo
 ire de sa famille un récit universel empreint de douleur\, de solidarité
  et de fraternité.\n\nLe Monde : Un hommage intimiste à ces migrants qu
 i ont construit la France.\n\nLes Inrockuptibles : Le réalisateur réuss
 it le petit miracle de raconter les drames\, les peines\, les jours\, le 
 labeur et la misère\, et d’y mêler de l’humour\, notamment grâce à
  ses trouvailles d’animateur : les têtes de brocoli deviennent des a
 rbres \; les morceaux de sucre\, des briques de chantier \; le carton
 \, du bois\, etc.\n\n
ATTACH;FMTTYPE=image/jpeg:https://cafeculturelcitoyen.org/wp-content/uploa
 ds/2023/06/Capture-decran-2023-06-29-222209-scaled.jpg
END:VEVENT
BEGIN:VTIMEZONE
TZID:Europe/Paris
X-LIC-LOCATION:Europe/Paris
BEGIN:DAYLIGHT
DTSTART:20230326T030000
TZOFFSETFROM:+0100
TZOFFSETTO:+0200
TZNAME:CEST
END:DAYLIGHT
END:VTIMEZONE
END:VCALENDAR