BEGIN:VCALENDAR
VERSION:2.0
PRODID:-//wp-events-plugin.com//7.2.3.1//EN
TZID:Europe/Paris
X-WR-TIMEZONE:Europe/Paris
BEGIN:VEVENT
UID:2266@cafeculturelcitoyen.org
DTSTART;TZID=Europe/Paris:20230511T200000
DTEND;TZID=Europe/Paris:20230511T220000
DTSTAMP:20230427T132930Z
URL:https://cafeculturelcitoyen.org/evenements/les-jeudis-du-3c-histoire-d
 u-sabotage-avec-victor-cachard/
SUMMARY:les jeudis du 3C : Histoire du sabotage avec Victor Cachard
DESCRIPTION:Faire l'histoire du sabotage  c’est l’occasion de parcouri
 r les nombreux mouvements qui s’opposent à toutes les formes d’exploi
 tation et d’oppression. Des attaques contre la fortification\, durant le
  Moyen Âge\, aux incendies contre les antennes 5G aujourd’hui\, en pass
 ant par les traine-savates dans les usines et le sabotage de la colonisati
 on\, le travail de Victor Cachard permet de comprendre ce qu’est le sabo
 tage et pourquoi il est toujours d’actualité.
ATTACH;FMTTYPE=image/jpeg:https://cafeculturelcitoyen.org/wp-content/uploa
 ds/2023/04/Capture-decran-2023-04-27-152905.png
END:VEVENT
BEGIN:VTIMEZONE
TZID:Europe/Paris
X-LIC-LOCATION:Europe/Paris
BEGIN:DAYLIGHT
DTSTART:20230326T030000
TZOFFSETFROM:+0100
TZOFFSETTO:+0200
TZNAME:CEST
END:DAYLIGHT
END:VTIMEZONE
END:VCALENDAR