BEGIN:VCALENDAR
VERSION:2.0
PRODID:-//wp-events-plugin.com//7.2.3.1//EN
TZID:Europe/Paris
X-WR-TIMEZONE:Europe/Paris
BEGIN:VEVENT
UID:1988@cafeculturelcitoyen.org
DTSTART;TZID=Europe/Paris:20230105T190000
DTEND;TZID=Europe/Paris:20230105T210000
DTSTAMP:20221214T090459Z
URL:https://cafeculturelcitoyen.org/evenements/les-jeudis-du-3c-frontieres
 -et-intersectionnalite-gloria-anzaldua-avec-maya-mihindou/
SUMMARY:Les Jeudis du 3C - Frontières et intersectionnalité - Gloria Anza
 ldua\, avec Maya Mihindou.
DESCRIPTION:Personnage aux frontières multiples\, Gloria Anzaldua a été 
 une autrice et activiste indispensable pour la compréhension des problém
 atiques à l'intersection de l'identité culturelle et de genre. Chicana a
 ux Etats-unis\, métisse assumée et revendiquée\, lesbienne inventeuse d
 u terme Queer\, Gloria Anzaldua aura été l'une des toutes premières fem
 mes à construire les possibilités d'identités complexes\, floues\, mult
 iples.\n\nMaya Mihindou que nous avions reçu pour nous parler de Sarah Ma
 ldoror\, poursuit sa présentation de figures féministes\, antiracistes e
 t anticapitalistes.
ATTACH;FMTTYPE=image/jpeg:https://cafeculturelcitoyen.org/wp-content/uploa
 ds/2022/12/Capture-decran-2022-12-14-100325.jpg
END:VEVENT
BEGIN:VTIMEZONE
TZID:Europe/Paris
X-LIC-LOCATION:Europe/Paris
BEGIN:STANDARD
DTSTART:20221030T020000
TZOFFSETFROM:+0200
TZOFFSETTO:+0100
TZNAME:CET
END:STANDARD
END:VTIMEZONE
END:VCALENDAR