BEGIN:VCALENDAR
VERSION:2.0
PRODID:-//wp-events-plugin.com//7.2.3.1//EN
TZID:Europe/Paris
X-WR-TIMEZONE:Europe/Paris
BEGIN:VEVENT
UID:2328@cafeculturelcitoyen.org
DTSTART;TZID=Europe/Paris:20230727T193000
DTEND;TZID=Europe/Paris:20230727T220000
DTSTAMP:20230630T154154Z
URL:https://cafeculturelcitoyen.org/evenements/les-jeudis-du-3c-frida-viva
 -la-vida/
SUMMARY:Les Jeudis du 3C - Frida\, Viva la vida
DESCRIPTION:Le film présente les deux facettes de Frida Kahlo : d’un cô
 té\, l’artiste révolutionnaire\, pionnière du féminisme contemporain
  \; de l’autre\, l’être humain\, victime d’un corps torturé et d
 ’une relation tourmentée. Au fil de la narration d’Asia Argento\, ces
  deux aspects de l’artiste sont révélés par le biais des paroles de F
 rida\, tirées de ses lettres\, journaux intimes et confessions privées. 
 Le film présente tour à tour entretiens\, documents originaux\, reconstr
 uctions captivantes et tableaux de l’artiste conservés dans certains de
 s plus extraordinaires musées du Mexique.
ATTACH;FMTTYPE=image/jpeg:https://cafeculturelcitoyen.org/wp-content/uploa
 ds/2023/06/Capture-decran-2023-06-30-174016.jpg
END:VEVENT
BEGIN:VTIMEZONE
TZID:Europe/Paris
X-LIC-LOCATION:Europe/Paris
BEGIN:DAYLIGHT
DTSTART:20230326T030000
TZOFFSETFROM:+0100
TZOFFSETTO:+0200
TZNAME:CEST
END:DAYLIGHT
END:VTIMEZONE
END:VCALENDAR