BEGIN:VCALENDAR
VERSION:2.0
PRODID:-//wp-events-plugin.com//7.2.3.1//EN
TZID:Europe/Paris
X-WR-TIMEZONE:Europe/Paris
BEGIN:VEVENT
UID:2370@cafeculturelcitoyen.org
DTSTART;TZID=Europe/Paris:20231012T200000
DTEND;TZID=Europe/Paris:20231012T200000
DTSTAMP:20230913T162110Z
URL:https://cafeculturelcitoyen.org/evenements/les-jeudis-du-3c-des-vies-o
 rageuses-par-mathilde-gal-et-tcholeiy/
SUMMARY:Les Jeudis du 3C - Des vies orageuses\, par Mathilde Gal et Tcholei
 y
DESCRIPTION:\n\n\n\nMathilde Gal &amp\; Tcholeiy\nDes vies orageuses\n Raco
 nter celles et ceux qui arrivent : le périple\, l'espoir\, l'attente\, la
  maladie aussi. Raconter celles et ceux qui accompagnent : l'engagement\, 
 les doutes\, l'épuisement aussi. Et puis pour tous de brusques orages\, d
 es moments de joie\, d'apprentissage\, et les rencontres.\nIdrissa vient d
 'arriver en France\, Sarah fait ses premiers pas en tant que médecin. Au 
 fil des pages de ce roman\, leurs chemins vont se croiser\, leurs mondes s
 'entrechoquer et des frontières exploser.\nPréface de Didier Fassin.\n\n
 Les autrices et auteurs\nMathilde Gal\nTravailleuse sociale et militante\,
  Mathilde Gal est l'autrice de deux romans auto-édités\, Germes et D com
 me.\nTcholeiy\nA l’origine du collectif militant Tcholeiy\, oiseaux en p
 ular\, il y a la rage et le sentiment d'impuissance de deux femmes médeci
 ns. Le groupe s'est progressivement élargi à une dizaine de personnes\, 
 exilées\, travailleuses sociales ou soignantes.\nDidier Fassin\nAnthropol
 ogue\, sociologue et médecin\, Didier Fassin est professeur à l’Instit
 ut d’étude avancée de Princeton et à l’École des hautes études en
  sciences sociales à Paris. Il a écrit la préface de ce livre.\n\nhttp:
 //lemondealenvers.lautre.net\n\n\n
ATTACH;FMTTYPE=image/jpeg:https://cafeculturelcitoyen.org/wp-content/uploa
 ds/2023/09/Capture-decran-2023-09-13-181905.jpg
END:VEVENT
BEGIN:VTIMEZONE
TZID:Europe/Paris
X-LIC-LOCATION:Europe/Paris
BEGIN:DAYLIGHT
DTSTART:20230326T030000
TZOFFSETFROM:+0100
TZOFFSETTO:+0200
TZNAME:CEST
END:DAYLIGHT
END:VTIMEZONE
END:VCALENDAR