BEGIN:VCALENDAR
VERSION:2.0
PRODID:-//wp-events-plugin.com//7.2.3.1//EN
TZID:Europe/Paris
X-WR-TIMEZONE:Europe/Paris
BEGIN:VEVENT
UID:1914@cafeculturelcitoyen.org
DTSTART;TZID=Europe/Paris:20221020T190000
DTEND;TZID=Europe/Paris:20221020T210000
DTSTAMP:20221005T091050Z
URL:https://cafeculturelcitoyen.org/evenements/les-jeudis-du-3c-decoder-le
 -capitalisme-avec-crise-critique/
SUMMARY:Les Jeudis du 3C - Décoder le capitalisme avec Crise & Critique
DESCRIPTION:Pourquoi le capitalisme produit-il nécessairement du racisme ?
  Comment s'appuie-t-il sur le patriarcat pour diviser le travail ? En quoi
  le Travail est-il une aliénation ? Pourquoi nous conduit-il au fétichis
 me de la marchandise ? Comment fonctionnent les "idéologies de crise" que
  fabrique le capitalisme : antisémitisme\, racismes\, complotismes ?  Co
 mment opérer une critique radicale du capitalisme ?\n\nJohannes Vogele et
  Paul Braun de l'association Crise &amp\; Critique\, à travers les formes
  concrètes de la crise de la société nous feront (re) découvrir les m
 écanismes du libéralisme pour nous donner des outils théoriques solides
 .\n\nVous pensiez connaître Marx ? Ou au contraire\, vous avez toujours p
 ensé que Marx était trop compliqué\, trop volumineux\, trop... ? Voici 
 une approche iconoclaste et profonde permettant de comprendre finement le 
 monde - en crise - dans lequel nous nous trouvons.\n\n&nbsp\;
ATTACH;FMTTYPE=image/jpeg:https://cafeculturelcitoyen.org/wp-content/uploa
 ds/2022/09/Capture-decran-2022-09-30-175524.jpg
END:VEVENT
BEGIN:VTIMEZONE
TZID:Europe/Paris
X-LIC-LOCATION:Europe/Paris
BEGIN:DAYLIGHT
DTSTART:20220327T030000
TZOFFSETFROM:+0100
TZOFFSETTO:+0200
TZNAME:CEST
END:DAYLIGHT
END:VTIMEZONE
END:VCALENDAR