BEGIN:VCALENDAR
VERSION:2.0
PRODID:-//wp-events-plugin.com//7.2.3.1//EN
TZID:Europe/Paris
X-WR-TIMEZONE:Europe/Paris
BEGIN:VEVENT
UID:1943@cafeculturelcitoyen.org
DTSTART;TZID=Europe/Paris:20221215T190000
DTEND;TZID=Europe/Paris:20221215T210000
DTSTAMP:20221214T152555Z
URL:https://cafeculturelcitoyen.org/evenements/les-jeudis-du-3c-combattre-
 la-montee-de-lextreme-droite-avec-didier-bonnel-de-la-ldh/
SUMMARY:Les Jeudis du 3C - Combattre la montée de l'extrême droite\, avec
  Didier Bonnel de la LDH
DESCRIPTION:De la Suède à la Turquie et des USA de Trump au Brésil de Bo
 lsonaro\, l'Italie\, la Pologne\, et sans parler de son score en France\, 
 partout le capitalisme en appelle au fascisme sous toutes ses formes pour 
 se maintenir en place. Panorama et explication de la résistance par Didie
 r Bonnel de la LDH\n\n&nbsp\;
ATTACH;FMTTYPE=image/jpeg:https://cafeculturelcitoyen.org/wp-content/uploa
 ds/2022/10/Capture-decran-2022-10-28-160030.png
END:VEVENT
BEGIN:VTIMEZONE
TZID:Europe/Paris
X-LIC-LOCATION:Europe/Paris
BEGIN:STANDARD
DTSTART:20221030T020000
TZOFFSETFROM:+0200
TZOFFSETTO:+0100
TZNAME:CET
END:STANDARD
END:VTIMEZONE
END:VCALENDAR