BEGIN:VCALENDAR
VERSION:2.0
PRODID:-//wp-events-plugin.com//7.2.3.1//EN
TZID:Europe/Paris
X-WR-TIMEZONE:Europe/Paris
BEGIN:VEVENT
UID:2120@cafeculturelcitoyen.org
DTSTART;TZID=Europe/Paris:20230302T190000
DTEND;TZID=Europe/Paris:20230302T213000
DTSTAMP:20230225T155318Z
URL:https://cafeculturelcitoyen.org/evenements/les-jeudis-du-3c-batir-laut
 onomie-et-lemancipation-par-les-7-principes-zapatistes/
SUMMARY:Les Jeudis du 3C - Bâtir l'autonomie et l'émancipation par les 7 
 principes zapatistes
DESCRIPTION:Depuis plus de 30 ans\, au Chiapas\, dans la province d'Oaxaca 
 et ailleurs au Mexique\, la révolution zapatiste et d'autres formes d'ém
 ancipation résistent au pouvoir central\, à la mondialisation galopante 
 et proposent au reste de la planète l'exemple de méthodes de s'autogouve
 rner sous des formes libertaires.\n\nParmi ces méthodes\, les "7 principe
 s de bon gouvernement" permettent d'articuler les communes zapatistes sans
  recours à l'Etat\, de construire un système de santé\, d'éducation\, 
 d'autodéfense entièrement nouveau et approprié aux peuples mayas en lut
 te\, à organiser les luttes des femmes\, et fonder une vie digne\, rebell
 e et sans l'exploitation capitaliste.\n\nAprès un très bref survol histo
 rique\, nous rentrerons rapidement dans le vif des "7 principios" et de la
  manière dont ils s'incarnent pratiquement dans l'organisation concrète 
 de la révolution zapatiste : de quoi inspirer nos propres pratiques.\n\nA
 nimé par Benjamin Koskas
ATTACH;FMTTYPE=image/jpeg:https://cafeculturelcitoyen.org/wp-content/uploa
 ds/2023/02/4ee05e567d7431f303f8fa00473b2753.jpg
END:VEVENT
BEGIN:VTIMEZONE
TZID:Europe/Paris
X-LIC-LOCATION:Europe/Paris
BEGIN:STANDARD
DTSTART:20221030T020000
TZOFFSETFROM:+0200
TZOFFSETTO:+0100
TZNAME:CET
END:STANDARD
END:VTIMEZONE
END:VCALENDAR