BEGIN:VCALENDAR
VERSION:2.0
PRODID:-//wp-events-plugin.com//7.2.3.1//EN
TZID:Europe/Paris
X-WR-TIMEZONE:Europe/Paris
BEGIN:VEVENT
UID:2235@cafeculturelcitoyen.org
DTSTART;TZID=Europe/Paris:20230316T190000
DTEND;TZID=Europe/Paris:20230316T210000
DTSTAMP:20230314T084845Z
URL:https://cafeculturelcitoyen.org/evenements/les-jeudis-du-3c-aux-origin
 es-de-la-catastrophe-les-premiers-temps-du-capitalisme/
SUMMARY:les Jeudis du 3C : Aux origines de la catastrophe\, les premiers te
 mps du capitalisme
DESCRIPTION:Non\, le capitalisme n'a pas toujours existé. En revanche il a
  une histoire qui s'ancre d'abord dans les campagnes anglaises dés la fin
  du moyen-âge\, puis aux Pays-bas\, puis peu à peu partout en Europe. In
 séparable de la colonisation\, l'esclavage lui est un terrain d’expéri
 mentation à la fois des techniques d'exploitation des humains et des mét
 hodes de contrôle social. Lorsque la "révolution" industrielle envahit l
 'occident il n'est plus permis de douter que le capitalisme n'est pas tant
  une forme d'économie\, mais bien une idéologie qui se fonde sur l'écon
 omie pour mettre en place une forme de domination. Sa récente forme "fina
 nciarisée" n'est qu'une sophistication de plus pour que le système se pr
 otège des attaques de la critique et des tentatives que nous faisons pour
  le renverser.\n\nUne approche historique\n\nPrésentation par Benjamin Ko
 skas
ATTACH;FMTTYPE=image/jpeg:https://cafeculturelcitoyen.org/wp-content/uploa
 ds/2023/03/Capture-decran-2023-03-14-094714.jpg
END:VEVENT
BEGIN:VTIMEZONE
TZID:Europe/Paris
X-LIC-LOCATION:Europe/Paris
BEGIN:STANDARD
DTSTART:20221030T020000
TZOFFSETFROM:+0200
TZOFFSETTO:+0100
TZNAME:CET
END:STANDARD
END:VTIMEZONE
END:VCALENDAR