BEGIN:VCALENDAR
VERSION:2.0
PRODID:-//wp-events-plugin.com//7.2.3.1//EN
TZID:Europe/Paris
X-WR-TIMEZONE:Europe/Paris
BEGIN:VEVENT
UID:2121@cafeculturelcitoyen.org
DTSTART;TZID=Europe/Paris:20230309T190000
DTEND;TZID=Europe/Paris:20230309T213000
DTSTAMP:20230225T155810Z
URL:https://cafeculturelcitoyen.org/evenements/les-jeudis-du-3c-autrices-c
 es-grandes-effacees-qui-ont-fait-la-litterature-avec-daphne-ticrizenis/
SUMMARY:Les Jeudis du 3C - Autrices. Ces grandes effacées qui ont fait la 
 littérature\, avec Daphné Ticrizenis
DESCRIPTION:Les femmes écrivaient-elles vraiment au Moyen Âge ? Notre ima
 ginaire est saturé de clichés sur cette époque qu’on imagine sombre\,
  violente\, saturée de pauvreté et de famines. Pourtant\, même si elles
  évoluent dans un monde misogyne et que leur statut est bien sûr associ
 é à celui de leurs maris (sauf dans le cas des religieuses)\, les femmes
  jouent un rôle social dans la cité et ne sont pas cantonnées à la ten
 ue d’un foyer. Les grandes dames sont à la fois lectrices\, mécènes\,
  commanditaires et destinataires des œuvres\, leur impact dans la vie cul
 turelle est essentiel. Et oui\, elles écrivent aussi.\n\nNée en région 
 parisienne\, Daphné Ticrizenis a grandi avec le goût d’apprendre et ce
 lui des livres. Après un master de Lettres modernes\, elle a travaillé d
 ans plusieurs maisons d’édition\, notamment scolaires. Féministe\, ell
 e déplore la faible proportion de textes d’autrices proposée dans les 
 manuels de français. Mais comment convoquer cette littérature qui ne nou
 s a jamais été enseignée\, qui n’est pas inscrite aux programmes des 
 concours et dont les textes ne sont souvent plus édités ? Depuis plusieu
 rs années\, en s’appuyant sur les études menées par des historien·ne
 s de la littérature\, elle est partie à la recherche des œuvres de ces 
 écrivaines effacées pour reconstituer un matrimoine commun.\n\n&nbsp\;
ATTACH;FMTTYPE=image/jpeg:https://cafeculturelcitoyen.org/wp-content/uploa
 ds/2023/02/Capture-decran-2023-02-25-165249.jpg
END:VEVENT
BEGIN:VTIMEZONE
TZID:Europe/Paris
X-LIC-LOCATION:Europe/Paris
BEGIN:STANDARD
DTSTART:20221030T020000
TZOFFSETFROM:+0200
TZOFFSETTO:+0100
TZNAME:CET
END:STANDARD
END:VTIMEZONE
END:VCALENDAR