BEGIN:VCALENDAR
VERSION:2.0
PRODID:-//wp-events-plugin.com//7.2.3.1//EN
TZID:Europe/Paris
X-WR-TIMEZONE:Europe/Paris
BEGIN:VEVENT
UID:2324@cafeculturelcitoyen.org
DTSTART;TZID=Europe/Paris:20230720T193000
DTEND;TZID=Europe/Paris:20230720T220000
DTSTAMP:20230703T081359Z
URL:https://cafeculturelcitoyen.org/evenements/les-jeudis-du-3c-au-nom-du-
 coach-cine-debat/
SUMMARY:Les Jeudis du 3C - "Au nom du Coach"\, Ciné-débat
DESCRIPTION:Comment l'entreprise et ses instruments (le coaching en l'occur
 rence) fabriquent les moyens du consentement au capitalisme et sa sociét
 é.\n\n&nbsp\;\n\nCandidat malheureux à l’émission de télé-réalité
  musicale The Voice\, Luc a une certitude : il sera millionnaire dans les 
 trois ans. Pour réaliser sa vision\, il participe à des séminaires de d
 éveloppement personnel\, au cours desquels des coachs en réussite lui en
 seignent les secrets du succès : "Si vous voulez devenir riches\, arrête
 z de fréquenter les pauvres"\, "Arrêtez de croire que les riches sont de
  mauvaises personnes"\, "Il faut vous déprogrammer". Parallèlement\, il 
 s’engage dans un mystérieux business par Internet lui promettant la for
 tune sans bouger de chez lui. Parviendra-t-il à concrétiser son rêve ?
ATTACH;FMTTYPE=image/jpeg:https://cafeculturelcitoyen.org/wp-content/uploa
 ds/2023/06/Capture-decran-2023-06-30-163617-scaled.jpg
END:VEVENT
BEGIN:VTIMEZONE
TZID:Europe/Paris
X-LIC-LOCATION:Europe/Paris
BEGIN:DAYLIGHT
DTSTART:20230326T030000
TZOFFSETFROM:+0100
TZOFFSETTO:+0200
TZNAME:CEST
END:DAYLIGHT
END:VTIMEZONE
END:VCALENDAR