BEGIN:VCALENDAR
VERSION:2.0
PRODID:-//wp-events-plugin.com//7.2.3.1//EN
TZID:Europe/Paris
X-WR-TIMEZONE:Europe/Paris
BEGIN:VEVENT
UID:1920@cafeculturelcitoyen.org
DTSTART;TZID=Europe/Paris:20221027T193000
DTEND;TZID=Europe/Paris:20221027T213000
DTSTAMP:20221001T071927Z
URL:https://cafeculturelcitoyen.org/evenements/les-jeudis-du-3c-10-questio
 ns-sur-lanarchisme-par-guillaume-davranche/
SUMMARY:Les Jeudis du 3C - "10 questions sur l'anarchisme"\, par Guillaume 
 Davranche
DESCRIPTION:Conférence débat en présence de l'auteur\n\nQu’est-ce que 
 l’anarchisme ? Ses adversaires expédient volontiers la question en le 
 réduisant à un milieu contre-culturel\, à un état d’esprit anticonfo
 rmiste\, à une posture esthétique… Autant de façons de lui rogner les
  griffes\, de le dépolitiser\, de le sortir de l’histoire.Ce petit livr
 e montre en quoi il est\, au contraire\, un courant très politique\, stru
 cturé\, porteur d’une alternative au capitalisme et d’une vision glob
 ale de transformation de la société.En s’appuyant tant sur les « gra
 nds auteurs » du passé que sur les orientations actuelles du mouvement 
 libertaire\, l’auteur s’efforce de répondre succinctement à dix ques
 tions que peuvent se poser celles et ceux qui veulent en savoir plus : d
 ’où vient l’anarchisme et quel est son projet économique et démocra
 tique ? Quelle est son approche écologiste\, son implication féministe
  ? Quelle est sa politique vis-à-vis des nationalités et des religions
  ? Quelles sont ses stratégies d’action et ses modes d’organisation
  ? Comment a-t-il agi dans les révolutions passées ? Une vingtaine de 
 portraits de militantes et militants historiques – de la Corée au Mexiq
 ue\, en passant par l’Algérie\, l’Espagne et la France – complète 
 ce tour d’horizon.\n\nGuillaume Davranche est journaliste et chercheur i
 ndépendant. Il est l’auteur de Trop jeunes pour mourir. Ouvriers et ré
 volutionnaires face à guerre (1909-1914)\, et a collaboré au dictionnair
 e Maitron des anarchistes.
ATTACH;FMTTYPE=image/jpeg:https://cafeculturelcitoyen.org/wp-content/uploa
 ds/2022/10/Capture-decran-2022-10-01-091054.jpg
END:VEVENT
BEGIN:VTIMEZONE
TZID:Europe/Paris
X-LIC-LOCATION:Europe/Paris
BEGIN:DAYLIGHT
DTSTART:20220327T030000
TZOFFSETFROM:+0100
TZOFFSETTO:+0200
TZNAME:CEST
END:DAYLIGHT
END:VTIMEZONE
END:VCALENDAR