BEGIN:VCALENDAR
VERSION:2.0
PRODID:-//wp-events-plugin.com//7.2.3.1//EN
TZID:Europe/Paris
X-WR-TIMEZONE:Europe/Paris
BEGIN:VEVENT
UID:2046@cafeculturelcitoyen.org
DTSTART;TZID=Europe/Paris:20230202T190000
DTEND;TZID=Europe/Paris:20230202T220000
DTSTAMP:20230202T070801Z
URL:https://cafeculturelcitoyen.org/evenements/les-jeudis-du-3-c-sur-le-th
 eme-du-veganisme/
SUMMARY:Les jeudis du 3 C - Sur le thème du véganisme
DESCRIPTION:Vincent Pruvost\, ancien militant de la cause animale\, nous pa
 rlera du véganisme et de ses enjeux\, positions\, combats et débattra av
 ec la salle sur ces sujets
ATTACH;FMTTYPE=image/jpeg:https://cafeculturelcitoyen.org/wp-content/uploa
 ds/2023/01/le-veganisme-reelle-prise-de-conscience-ou-effet-de-mode-reines
 destempsmodernescom_1735997-692388085.jpeg
END:VEVENT
BEGIN:VTIMEZONE
TZID:Europe/Paris
X-LIC-LOCATION:Europe/Paris
BEGIN:STANDARD
DTSTART:20221030T020000
TZOFFSETFROM:+0200
TZOFFSETTO:+0100
TZNAME:CET
END:STANDARD
END:VTIMEZONE
END:VCALENDAR