BEGIN:VCALENDAR
VERSION:2.0
PRODID:-//wp-events-plugin.com//7.2.3.1//EN
TZID:Europe/Paris
X-WR-TIMEZONE:Europe/Paris
BEGIN:VEVENT
UID:1946@cafeculturelcitoyen.org
DTSTART;TZID=Europe/Paris:20221124T190000
DTEND;TZID=Europe/Paris:20221124T210000
DTSTAMP:20221109T181011Z
URL:https://cafeculturelcitoyen.org/evenements/les-jeudis-du-3-c-atelier-u
 topie-avec-andre-koulberg/
SUMMARY:Les Jeudis du 3 C - Atelier Utopie avec André Koulberg
DESCRIPTION:Construire les alternatives c'est connaître les expériences d
 u passé (collectivités\, utopies radicales\, soulèvements ...)\, et ima
 giner le futur. De la Commune de Paris à la ZAD\, des marronages esclaves
  aux écoles libertaires allemandes\, de la ZAP de Pertuis aux Conseils ou
 vriers\, l'Utopie n'est pas un lieu qui n'existe pas\, mais un projet à f
 abriquer.\n\n\nL'atelier Utopie s'était créé au moment du mouvement des
  Gilets jaunes\, lorsque les groupes GJ d'Aix en Provence avaient investi 
 l'école désaffectée Jean Giono. L'objectif était de proposer des forme
 s d'éducation populaire où la réflexion et la construction sur les alte
 rnatives seraient le fait de tous et toutes et non seulement issues de la 
 connaissance d'un "sachant"\, fut-il philosophe.\nAndré Koulberg est prof
 esseur de philosophie\, intervenant à l'université populaire du pays d'A
 ix - UPPA - auteur notamment de Le FN et la société française - l'extr
 ême droite banalisée\, anime de manière ouverte et participative ces oc
 casions de s'interroger collectivement sur différents sujets\, en puisant
  dans les expériences d'autonomie passées\, les exemples venus d'ailleur
 s ou de luttes locales.\nLe thème de l'atelier du 24 portera sur le Trava
 il et sa critique.\n\n
ATTACH;FMTTYPE=image/jpeg:https://cafeculturelcitoyen.org/wp-content/uploa
 ds/2022/10/utopie5.jpg
END:VEVENT
BEGIN:VTIMEZONE
TZID:Europe/Paris
X-LIC-LOCATION:Europe/Paris
BEGIN:STANDARD
DTSTART:20221030T020000
TZOFFSETFROM:+0200
TZOFFSETTO:+0100
TZNAME:CET
END:STANDARD
END:VTIMEZONE
END:VCALENDAR