BEGIN:VCALENDAR
VERSION:2.0
PRODID:-//wp-events-plugin.com//7.2.3.1//EN
TZID:Europe/Paris
X-WR-TIMEZONE:Europe/Paris
BEGIN:VEVENT
UID:2462@cafeculturelcitoyen.org
DTSTART;TZID=Europe/Paris:20231123T180000
DTEND;TZID=Europe/Paris:20231123T203000
DTSTAMP:20231108T092822Z
URL:https://cafeculturelcitoyen.org/evenements/les-fourmis-et-la-sauterell
 e-projection-debat-du-festival-alimenterre/
SUMMARY:Les jeudis du 3C - Les fourmis et la sauterelle - projection débat
  du festival AlimenTERRE
DESCRIPTION:Rendez-vous au café culturel citoyen à Aix-en-Provence le jeu
 di 23 novembre ! Nous serons ensemble dans le cadre du festival AlimenTerr
 e pour la projection du documentaire Les fourmis et la sauterelle. Nous su
 ivrons les aventures d'Anita Chitaya\, une agricultrice du Malawi. Elle te
 nte de rendre son village plus résilient et respectueux de l’environnem
 ent\, d’y éradiquer la faim et d’y faire advenir l’égalité femme-
 homme. Anita se rend aux États-Unis pour rencontrer des agriculteurs\, de
 s militants\, des climato-sceptiques et des législateurs afin de les pers
 uader de sauver sa maison en commençant par sauver la planète. Nous déb
 attrons ensuite de la question des inégalités\, du changement climatique
  et de la manière dont le pouvoir citoyen peut y mettre fin.\nDocumentair
 e de Raj Patel\, Zak Piper/ Kartemquin films\, Bungalow town / 2021 / 74
 ’ / Anglais\, sous-titré français\nhttps://www.alimenterre.org/les-fou
 rmis-et-la-sauterelle\nhttps://www.lespetitescantines.org/\nhttps://www.ox
 famfrance.org/\n&nbsp\;\n\n&nbsp\;\n\n&nbsp\;
ATTACH;FMTTYPE=image/jpeg:https://cafeculturelcitoyen.org/wp-content/uploa
 ds/2023/11/ff9162b26d674c8e8ea84067e690b586.base_.image_.jpg
END:VEVENT
BEGIN:VTIMEZONE
TZID:Europe/Paris
X-LIC-LOCATION:Europe/Paris
BEGIN:STANDARD
DTSTART:20231029T020000
TZOFFSETFROM:+0200
TZOFFSETTO:+0100
TZNAME:CET
END:STANDARD
END:VTIMEZONE
END:VCALENDAR