BEGIN:VCALENDAR
VERSION:2.0
PRODID:-//wp-events-plugin.com//7.2.3.1//EN
TZID:Europe/Paris
X-WR-TIMEZONE:Europe/Paris
BEGIN:VEVENT
UID:1951@cafeculturelcitoyen.org
DTSTART;TZID=Europe/Paris:20221111T203000
DTEND;TZID=Europe/Paris:20221111T223000
DTSTAMP:20221104T170612Z
URL:https://cafeculturelcitoyen.org/evenements/les-arenes-de-limpro-27/
SUMMARY:Les arènes de l’impro
DESCRIPTION:Les arènes de l’impro est le spectacle d’improvisation le
  plus populaire de la scène aixoise.\n- fondus.fr
ATTACH;FMTTYPE=image/jpeg:https://cafeculturelcitoyen.org/wp-content/uploa
 ds/2017/08/visuel-arenes-3C-big.jpg
END:VEVENT
BEGIN:VTIMEZONE
TZID:Europe/Paris
X-LIC-LOCATION:Europe/Paris
BEGIN:STANDARD
DTSTART:20221030T020000
TZOFFSETFROM:+0200
TZOFFSETTO:+0100
TZNAME:CET
END:STANDARD
END:VTIMEZONE
END:VCALENDAR