BEGIN:VCALENDAR
VERSION:2.0
PRODID:-//wp-events-plugin.com//7.2.3.1//EN
TZID:Europe/Paris
X-WR-TIMEZONE:Europe/Paris
BEGIN:VEVENT
UID:1369@cafeculturelcitoyen.org
DTSTART;TZID=Europe/Paris:20220610T203000
DTEND;TZID=Europe/Paris:20220610T223000
DTSTAMP:20220516T122828Z
URL:https://cafeculturelcitoyen.org/evenements/les-arenes-de-limpro-25/
SUMMARY:Les arènes de l’impro
DESCRIPTION:9 gladiateurs…\n3 sénateurs pour les juger…\nUne arène re
 mplie de spectateurs…\nA la fin\, un seul des gladiateurs prendra place 
 parmi les dieux !\nLes arènes de l’impro est le spectacle d’improvis
 ation le plus populaire de la scène aixoise. Il se situe à la frontière
  du catch d’impro\, de l’impro chapeau et de la scène ouverte. Chaque
  improvisateur\, quelle que soit sa ligue\, peut venir jouter dans l’ar
 ène pour tenter de rejoindre les dieux de l’Olympe !
ATTACH;FMTTYPE=image/jpeg:https://cafeculturelcitoyen.org/wp-content/uploa
 ds/2017/08/visuel-arenes-3C-big.jpg
END:VEVENT
BEGIN:VTIMEZONE
TZID:Europe/Paris
X-LIC-LOCATION:Europe/Paris
BEGIN:DAYLIGHT
DTSTART:20220327T030000
TZOFFSETFROM:+0100
TZOFFSETTO:+0200
TZNAME:CEST
END:DAYLIGHT
END:VTIMEZONE
END:VCALENDAR