BEGIN:VCALENDAR
VERSION:2.0
PRODID:-//wp-events-plugin.com//7.2.3.1//EN
TZID:Europe/Paris
X-WR-TIMEZONE:Europe/Paris
BEGIN:VEVENT
UID:1700@cafeculturelcitoyen.org
DTSTART;TZID=Europe/Paris:20220409T203000
DTEND;TZID=Europe/Paris:20220409T213000
DTSTAMP:20220324T151931Z
URL:https://cafeculturelcitoyen.org/evenements/lecture-musicale-de-low-dow
 n-avec-la-jam-du-cours/
SUMMARY:Lecture Musicale de Low Down avec la Jam du Cours
DESCRIPTION:LOW DOWN\, JAZZ CAME ET AUTRES CONTES DE LA PRINCESSE BEBOP\nL
 ’ouvrage autobiographique « Low Down \; Jazz\, came et autres contes 
 de la princesse bebop » narre les relations entre l’auteure\, Amy Joe 
 Albany\, et son père\, Joe Abany\, qui\, outre le fait d’être l’un d
 es pianistes de Charlie Parker\, côtoya le gotha du jazz (Chet Baker\, Di
 zzy Gillespie\, Thelonious Monk…) et fut aussi\, hélas\, un toxicomane 
 invétéré. Touchés par les instantanés de vie à hauteur d’enfant et
  par la véracité des sensations musicales qui en émanent\, des musicien
 s du collectif « La Jam du CourS » ont convié une lectrice à sélect
 ionner des passages de l’ouvrage\, pour les faire entendre sur scène\, 
 sur fond d’improvisations et de thèmes emblématiques du bebop.\nDurée
  du spectacle : 1h\nCaroline Roux\, lecture/Denis Antoine\, flûtes trave
 rsières/Pierre-Augustin Grivelet\, guitare/Laurent Dussutour\, contrebass
 e.
ATTACH;FMTTYPE=image/jpeg:https://cafeculturelcitoyen.org/wp-content/uploa
 ds/2022/03/Sans-titre25.jpg
END:VEVENT
BEGIN:VTIMEZONE
TZID:Europe/Paris
X-LIC-LOCATION:Europe/Paris
BEGIN:DAYLIGHT
DTSTART:20220327T030000
TZOFFSETFROM:+0100
TZOFFSETTO:+0200
TZNAME:CEST
END:DAYLIGHT
END:VTIMEZONE
END:VCALENDAR