BEGIN:VCALENDAR
VERSION:2.0
PRODID:-//wp-events-plugin.com//7.2.3.1//EN
TZID:Europe/Paris
X-WR-TIMEZONE:Europe/Paris
BEGIN:VEVENT
UID:2572@cafeculturelcitoyen.org
DTSTART;TZID=Europe/Paris:20240214T190000
DTEND;TZID=Europe/Paris:20240214T200000
DTSTAMP:20231113T085610Z
URL:https://cafeculturelcitoyen.org/evenements/lecture-en-duo-sur-lamour/
SUMMARY:Lecture en duo sur l'Amour
DESCRIPTION:Alessandra BLACHE\, auteure et Frédéric GANGA\, sociétaire 
 de la Société des Poètes Français\, vous convient à une lecture consa
 crée à l'inépuisable sujet de l'Amour !\n\nSi ELLE\, vous livrera des t
 extes issus du Recueil : "Jusqu'à toi\, combien de Poèmes ?" écrit pa
 r Alireza Roshan\, poète perse contemporain\, LUI\, déclamera des textes
  de poétesses connues (ou méconnues !) ayant exercé leur plume du 11èm
 e au 20ème siècle.
ATTACH;FMTTYPE=image/jpeg:https://cafeculturelcitoyen.org/wp-content/uploa
 ds/2023/11/Alessandra.png
END:VEVENT
BEGIN:VTIMEZONE
TZID:Europe/Paris
X-LIC-LOCATION:Europe/Paris
BEGIN:STANDARD
DTSTART:20231029T020000
TZOFFSETFROM:+0200
TZOFFSETTO:+0100
TZNAME:CET
END:STANDARD
END:VTIMEZONE
END:VCALENDAR