BEGIN:VCALENDAR
VERSION:2.0
PRODID:-//wp-events-plugin.com//7.2.3.1//EN
TZID:Europe/Paris
X-WR-TIMEZONE:Europe/Paris
BEGIN:VEVENT
UID:2442@cafeculturelcitoyen.org
DTSTART;TZID=Europe/Paris:20231122T180000
DTEND;TZID=Europe/Paris:20231122T200000
DTSTAMP:20231016T145321Z
URL:https://cafeculturelcitoyen.org/evenements/lecture-du-petit-prince-par
 -jonathan-chataigne/
SUMMARY:Lecture du Petit Prince par Jonathan Chataigné
DESCRIPTION:Le Petit Prince d'Antoine de Saint Exupéry est un chef d'œuvr
 e que l'on ne présente plus.\n\nCe conte onirique\, ancré dans le réel\
 , traduit le cri mélancolique d'un homme perdu dans le désert et qui che
 rche sa place sur son immense planète.\n\nIl se met donc à écouter les 
 récits fantastiques d'un petit bonhomme qui\, l'espace d'un voyage de 2h\
 , va lui faire oublier sa solitude...
ATTACH;FMTTYPE=image/jpeg:https://cafeculturelcitoyen.org/wp-content/uploa
 ds/2023/10/le_petit_prince_3196.png
END:VEVENT
BEGIN:VTIMEZONE
TZID:Europe/Paris
X-LIC-LOCATION:Europe/Paris
BEGIN:STANDARD
DTSTART:20231029T020000
TZOFFSETFROM:+0200
TZOFFSETTO:+0100
TZNAME:CET
END:STANDARD
END:VTIMEZONE
END:VCALENDAR