BEGIN:VCALENDAR
VERSION:2.0
PRODID:-//wp-events-plugin.com//7.2.3.1//EN
TZID:Europe/Paris
X-WR-TIMEZONE:Europe/Paris
BEGIN:VEVENT
UID:2596@cafeculturelcitoyen.org
DTSTART;TZID=Europe/Paris:20240127T173000
DTEND;TZID=Europe/Paris:20240127T183000
DTSTAMP:20231121T095454Z
URL:https://cafeculturelcitoyen.org/evenements/lecture-du-jeune-homme-de-a
 nnie-ernaux/
SUMMARY:Lecture du Jeune Homme de Annie Ernaux
DESCRIPTION:Françoise CAUWEL et Arnaud PELISSIER vous proposent une plong
 ée captivante dans le récit d'introspection d'une femme face à son pass
 é\,  ayant une liaison amoureuse singulière avec un jeune homme de 30 a
 ns de moins qu'elle.\n\nÀ travers une écriture précise et poignante\, l
 a prix Nobel de littérature explore les méandres de la mémoire et de la
  passion . L'essence complexe de l'amour est au cœur de ce spectacle....\
 n\nNous vous attendons avec plaisir pour vous le faire découvrir.\nPartic
 ipation au chapeau. Merci de votre générosité envers les artistes.\n\n\
 nParticipation au chapeau. Merci de votre générosité envers les artiste
 s
ATTACH;FMTTYPE=image/jpeg:https://cafeculturelcitoyen.org/wp-content/uploa
 ds/2023/11/Le-jeune-homme.png
END:VEVENT
BEGIN:VTIMEZONE
TZID:Europe/Paris
X-LIC-LOCATION:Europe/Paris
BEGIN:STANDARD
DTSTART:20231029T020000
TZOFFSETFROM:+0200
TZOFFSETTO:+0100
TZNAME:CET
END:STANDARD
END:VTIMEZONE
END:VCALENDAR