BEGIN:VCALENDAR
VERSION:2.0
PRODID:-//wp-events-plugin.com//7.2.3.1//EN
TZID:Europe/Paris
X-WR-TIMEZONE:Europe/Paris
BEGIN:VEVENT
UID:2382@cafeculturelcitoyen.org
DTSTART;TZID=Europe/Paris:20231109T190000
DTEND;TZID=Europe/Paris:20231109T194500
DTSTAMP:20230925T144129Z
URL:https://cafeculturelcitoyen.org/evenements/lecture-des-noces-de-camus/
SUMMARY:Lecture des Noces de Camus
DESCRIPTION:Françoise CAUWEL et Marie Ange VANNI vous proposent d'assister
  à cette lecture avec chant lyrique du texte de Albert Camus - Noces.\n\n
 Noces est une exaltation de la nature\, mais aussi les impressions et méd
 itations de l'auteur sur la condition humaine et la recherche du bonheur e
 t de l'amour.
ATTACH;FMTTYPE=image/jpeg:https://cafeculturelcitoyen.org/wp-content/uploa
 ds/2023/09/Noces.jpg
END:VEVENT
BEGIN:VTIMEZONE
TZID:Europe/Paris
X-LIC-LOCATION:Europe/Paris
BEGIN:STANDARD
DTSTART:20231029T020000
TZOFFSETFROM:+0200
TZOFFSETTO:+0100
TZNAME:CET
END:STANDARD
END:VTIMEZONE
END:VCALENDAR