BEGIN:VCALENDAR
VERSION:2.0
PRODID:-//wp-events-plugin.com//7.2.3.1//EN
TZID:Europe/Paris
X-WR-TIMEZONE:Europe/Paris
BEGIN:VEVENT
UID:2438@cafeculturelcitoyen.org
DTSTART;TZID=Europe/Paris:20231216T173000
DTEND;TZID=Europe/Paris:20231216T183000
DTSTAMP:20231114T143730Z
URL:https://cafeculturelcitoyen.org/evenements/lecture-de-lhomme-qui-plant
 ait-des-arbres-de-jean-giono-par-david-rougerie/
SUMMARY:Lecture de "L'homme qui plantait des arbres" de Jean Giono par Davi
 d Rougerie
DESCRIPTION:Un berger solitaire plante des arbres\, des milliers d'arbres.\
 n\nAu fil des ans\, le vieil homme a réalisé son rêve : la lande aride 
 et désolée est devenue une terre pleine de vie. Un portrait émouvant et
  un hymne à la nature.
ATTACH;FMTTYPE=image/jpeg:https://cafeculturelcitoyen.org/wp-content/uploa
 ds/2023/10/ARBRES-de-CECILE-RATEAU.jpg
END:VEVENT
BEGIN:VTIMEZONE
TZID:Europe/Paris
X-LIC-LOCATION:Europe/Paris
BEGIN:STANDARD
DTSTART:20231029T020000
TZOFFSETFROM:+0200
TZOFFSETTO:+0100
TZNAME:CET
END:STANDARD
END:VTIMEZONE
END:VCALENDAR