BEGIN:VCALENDAR
VERSION:2.0
PRODID:-//wp-events-plugin.com//7.2.3.1//EN
TZID:Europe/Paris
X-WR-TIMEZONE:Europe/Paris
BEGIN:VEVENT
UID:1701@cafeculturelcitoyen.org
DTSTART;TZID=Europe/Paris:20220323T200000
DTEND;TZID=Europe/Paris:20220323T214500
DTSTAMP:20220321T172456Z
URL:https://cafeculturelcitoyen.org/evenements/lecture-de-contes-et-du-liv
 re-en-attendant-bojangles/
SUMMARY:Lecture de Contes et du livre en attendant Bojangles
DESCRIPTION:Les bénévoles du 3C vous invitent à venir écouter des conte
 s choisis et racontés par les bénévoles eux mêmes :)
ATTACH;FMTTYPE=image/jpeg:https://cafeculturelcitoyen.org/wp-content/uploa
 ds/2022/03/Sans-titre27.jpg
END:VEVENT
BEGIN:VTIMEZONE
TZID:Europe/Paris
X-LIC-LOCATION:Europe/Paris
BEGIN:STANDARD
DTSTART:20211031T020000
TZOFFSETFROM:+0200
TZOFFSETTO:+0100
TZNAME:CET
END:STANDARD
END:VTIMEZONE
END:VCALENDAR