BEGIN:VCALENDAR
VERSION:2.0
PRODID:-//wp-events-plugin.com//7.2.3.1//EN
TZID:Europe/Paris
X-WR-TIMEZONE:Europe/Paris
BEGIN:VEVENT
UID:2597@cafeculturelcitoyen.org
DTSTART;TZID=Europe/Paris:20240113T173000
DTEND;TZID=Europe/Paris:20240113T183000
DTSTAMP:20231121T095907Z
URL:https://cafeculturelcitoyen.org/evenements/lecture-de-au-nom-de-la-mer
 e-de-erri-de-luca/
SUMMARY:Lecture de Au Nom de la Mère de Erri de Luca
DESCRIPTION:Françoise CAUWEL et Dominique THIREAU lisent en français et i
 talien : ERRI de LUCA : " Au nom de la mère"\n\nErri De Luca s'empare de 
 l'histoire la plus connue de l'humanité\, et l'articule autour de la figu
 re de Marie. Ou plutôt de Miriàm\, une simple jeune femme.\n\nUne histoi
 re d'amour inimaginable\, une épopée et une naissance...\n\nVous pourrez
  encourager les artistes grâce à une participation "au chapeau" Nous vou
 s remercions de votre générosité.
ATTACH;FMTTYPE=image/jpeg:https://cafeculturelcitoyen.org/wp-content/uploa
 ds/2023/11/Erri-De-Luca.png
END:VEVENT
BEGIN:VTIMEZONE
TZID:Europe/Paris
X-LIC-LOCATION:Europe/Paris
BEGIN:STANDARD
DTSTART:20231029T020000
TZOFFSETFROM:+0200
TZOFFSETTO:+0100
TZNAME:CET
END:STANDARD
END:VTIMEZONE
END:VCALENDAR