BEGIN:VCALENDAR
VERSION:2.0
PRODID:-//wp-events-plugin.com//7.2.3.1//EN
TZID:Europe/Paris
X-WR-TIMEZONE:Europe/Paris
BEGIN:VEVENT
UID:2663@cafeculturelcitoyen.org
DTSTART;TZID=Europe/Paris:20240201T190000
DTEND;TZID=Europe/Paris:20240201T210000
DTSTAMP:20240109T142803Z
URL:https://cafeculturelcitoyen.org/evenements/le-racisme-en-france-soiree
 -du-groupe-utopie-autour-dandre-koulberg/
SUMMARY:Le racisme en France. Soirée du groupe Utopie autour d'André Koul
 berg
DESCRIPTION:A l'aune de l'actualité\, d'un passage de loi resserrant les c
 onditions d'accueil ici et là\, il nous apparaît urgent de porter un reg
 ard rétrospectif sur le racisme "à la française". Savoir reconnaître l
 e racisme et ses potentialités destructrices\, malgré ses divers camoufl
 ages\, ses dénégations\, sa banalisation aujourd'hui. L'histoire du raci
 sme français éclaire plus qu'on ne le pense autant sa réalité passée\
 , que ses multiples formes actuelles.
ATTACH;FMTTYPE=image/jpeg:https://cafeculturelcitoyen.org/wp-content/uploa
 ds/2024/01/Utopie3.png
END:VEVENT
BEGIN:VTIMEZONE
TZID:Europe/Paris
X-LIC-LOCATION:Europe/Paris
BEGIN:STANDARD
DTSTART:20231029T020000
TZOFFSETFROM:+0200
TZOFFSETTO:+0100
TZNAME:CET
END:STANDARD
END:VTIMEZONE
END:VCALENDAR