BEGIN:VCALENDAR
VERSION:2.0
PRODID:-//wp-events-plugin.com//7.2.3.1//EN
TZID:Europe/Paris
X-WR-TIMEZONE:Europe/Paris
BEGIN:VEVENT
UID:1643@cafeculturelcitoyen.org
DTSTART;TZID=Europe/Paris:20220413T193000
DTEND;TZID=Europe/Paris:20220413T214500
DTSTAMP:20220324T152712Z
URL:https://cafeculturelcitoyen.org/evenements/le-quizz-du-3c/
SUMMARY:Le Quizz du 3C
DESCRIPTION:Venez mettre à l'épreuve vos connaissances tout en passant un
  bon moment dans la bonne humeur et la convivialité ! Notre équipe de b
 énévoles vous a préparé des questions (parfois) difficiles mais marran
 tes. Inscription sur place à partir de 19h.\n\nVous répondrez en équipe
  de 4 à 5 personnes (si vous n'avez pas d'équipe vous en constituerez un
 e sur place). A gagner il y aura plusieurs petits lots et des consos gratu
 ites.\n\nAu programme\, il faudra par exemple répondre à des questions 
 à choix multiple\, deviner des réponses à partir de photos ou de morcea
 ux de musique.
ATTACH;FMTTYPE=image/jpeg:https://cafeculturelcitoyen.org/wp-content/uploa
 ds/2021/12/Burger-Qui.jpg
END:VEVENT
BEGIN:VTIMEZONE
TZID:Europe/Paris
X-LIC-LOCATION:Europe/Paris
BEGIN:DAYLIGHT
DTSTART:20220327T030000
TZOFFSETFROM:+0100
TZOFFSETTO:+0200
TZNAME:CEST
END:DAYLIGHT
END:VTIMEZONE
END:VCALENDAR