BEGIN:VCALENDAR
VERSION:2.0
PRODID:-//wp-events-plugin.com//7.2.3.1//EN
TZID:Europe/Paris
X-WR-TIMEZONE:Europe/Paris
BEGIN:VEVENT
UID:2449@cafeculturelcitoyen.org
DTSTART;TZID=Europe/Paris:20231118T153000
DTEND;TZID=Europe/Paris:20231118T163000
DTSTAMP:20231020T114757Z
URL:https://cafeculturelcitoyen.org/evenements/le-petit-chaperon-uf/
SUMMARY:Le Petit Chaperon Uf
DESCRIPTION:A l’orée d'un bois\, le Petit Chaperon Rouge rencontre Wolf\
 , un loup déguisé en caporal. Ce dernier lui apprend la triste vérité 
 : elle est UF et\, comme pour tous les Ufs petits et grands\, tout ou pres
 que lui est interdit.\n\nPlus la pièce avance\, plus les droits de la pet
 ite s'amenuisent et l'on observe ces scènes avec un sentiment de révolte
  mitigé\, d'autant plus amusé que le ridicule du loup ne cesse de s’ac
 centuer.\n\nPièce de Jean-Claude Grumberg produite par la compagnie Act'e
 n Ciel
ATTACH;FMTTYPE=image/jpeg:https://cafeculturelcitoyen.org/wp-content/uploa
 ds/2023/10/Uf-photo-1-scaled.jpg
END:VEVENT
BEGIN:VTIMEZONE
TZID:Europe/Paris
X-LIC-LOCATION:Europe/Paris
BEGIN:STANDARD
DTSTART:20231029T020000
TZOFFSETFROM:+0200
TZOFFSETTO:+0100
TZNAME:CET
END:STANDARD
END:VTIMEZONE
END:VCALENDAR