BEGIN:VCALENDAR
VERSION:2.0
PRODID:-//wp-events-plugin.com//7.2.3.1//EN
TZID:Europe/Paris
X-WR-TIMEZONE:Europe/Paris
BEGIN:VEVENT
UID:2383@cafeculturelcitoyen.org
DTSTART;TZID=Europe/Paris:20231025T203000
DTEND;TZID=Europe/Paris:20231025T211500
DTSTAMP:20230927T090409Z
URL:https://cafeculturelcitoyen.org/evenements/le-funambule-de-jean-genet/
SUMMARY:Le Funambule de Jean Genet
DESCRIPTION:Au fil des pages de ce poème en prose\, à la fois lettre d'am
 our enflammée\, précis de funambulisme et méditation métaphysique\, Ge
 net amène l’auditeur d’aujourd’hui à s’interroger sur le myst
 ère\, toujours renouvelé\, de l’artiste qui s'expose pour  s'oublier\
 , et se trouver : l'artiste en quête de l’ultime métamorphose\, qui l
 e délivre de sa gangue égotique : vers le jeu.\n\n\nCette version\, con
 çue spécialement pour cette soirée\, consistera en une lecture\, par K
 en Michel-Clauss\, comédien et metteur en scène\, tissant ses mots sur u
 ne musique originale jouée par Fabienne Pratali\, musicienne et composit
 rice\, ici sur cet instrument inattendu qu’est la viole de gambe.\n\n\nU
 n texte initiatique qui ne peut que résonner intimement en tout être por
 té par l’élan artistique\, franchissant le pas de l’ombre à la lu
 mière pour "mourir avant que d’apparaître".\n\n\nPour en savoir plus s
 ur la compagnie le Mille-feuille
ATTACH;FMTTYPE=image/jpeg:https://cafeculturelcitoyen.org/wp-content/uploa
 ds/2023/09/silhouette-de-adepte-du-slackline.webp
END:VEVENT
BEGIN:VTIMEZONE
TZID:Europe/Paris
X-LIC-LOCATION:Europe/Paris
BEGIN:DAYLIGHT
DTSTART:20230326T030000
TZOFFSETFROM:+0100
TZOFFSETTO:+0200
TZNAME:CEST
END:DAYLIGHT
END:VTIMEZONE
END:VCALENDAR