BEGIN:VCALENDAR
VERSION:2.0
PRODID:-//wp-events-plugin.com//7.2.3.1//EN
TZID:Europe/Paris
X-WR-TIMEZONE:Europe/Paris
BEGIN:VEVENT
UID:2456@cafeculturelcitoyen.org
DTSTART;TZID=Europe/Paris:20231121T200000
DTEND;TZID=Europe/Paris:20231121T210000
DTSTAMP:20231031T122535Z
URL:https://cafeculturelcitoyen.org/evenements/le-cri-en-concert/
SUMMARY:Le CRI en concert !
DESCRIPTION:Le CRI c’est le Collectif Roulant Interartistique : une dizai
 ne de jeunes acrobates\, musicien.ne.s\, danseur.euse.s\, rêveur.euse.s
 … qui partent plusieurs mois à vélo pour faire voyager leurs arts et l
 eurs idéaux à travers la France !\n\nLe 21 novembre à 20h\, rendez-vous
  au 3C pour un bal Folk\, venez danser avec nous !
ATTACH;FMTTYPE=image/jpeg:https://cafeculturelcitoyen.org/wp-content/uploa
 ds/2023/10/Le-CRI.jpg
END:VEVENT
BEGIN:VTIMEZONE
TZID:Europe/Paris
X-LIC-LOCATION:Europe/Paris
BEGIN:STANDARD
DTSTART:20231029T020000
TZOFFSETFROM:+0200
TZOFFSETTO:+0100
TZNAME:CET
END:STANDARD
END:VTIMEZONE
END:VCALENDAR