BEGIN:VCALENDAR
VERSION:2.0
PRODID:-//wp-events-plugin.com//7.2.3.1//EN
TZID:Europe/Paris
X-WR-TIMEZONE:Europe/Paris
BEGIN:VEVENT
UID:2450@cafeculturelcitoyen.org
DTSTART;TZID=Europe/Paris:20231129T190000
DTEND;TZID=Europe/Paris:20231129T220000
DTSTAMP:20231020T121405Z
URL:https://cafeculturelcitoyen.org/evenements/le-cabaret-du-3c-scene-ouve
 rte/
SUMMARY:Le Cabaret du 3C (Scène ouverte)
DESCRIPTION:Tu sais jongler avec les pieds ? Tu souhaites nous raconter tes
  tragiques vacances à la Bourboule ? Tu sais jouer la Marseillaise avec l
 es fesses ?\n\nViens nous partager ton talent caché\, la scène du 3C te 
 seras dédiée dans le cadre d'un grand cabaret déjanté qui ravira mamie
  et les enfants de ta/ton pote célibataire !\n\nSi tu souhaites participe
 r\, envoie nous ta proposition à programmationle3c@gmail.com.
ATTACH;FMTTYPE=image/jpeg:https://cafeculturelcitoyen.org/wp-content/uploa
 ds/2023/10/girl-cabaret.jpg
END:VEVENT
BEGIN:VTIMEZONE
TZID:Europe/Paris
X-LIC-LOCATION:Europe/Paris
BEGIN:STANDARD
DTSTART:20231029T020000
TZOFFSETFROM:+0200
TZOFFSETTO:+0100
TZNAME:CET
END:STANDARD
END:VTIMEZONE
END:VCALENDAR