BEGIN:VCALENDAR
VERSION:2.0
PRODID:-//wp-events-plugin.com//7.2.3.1//EN
TZID:Europe/Paris
X-WR-TIMEZONE:Europe/Paris
BEGIN:VEVENT
UID:2617@cafeculturelcitoyen.org
DTSTART;TZID=Europe/Paris:20240119T203000
DTEND;TZID=Europe/Paris:20240119T230000
DTSTAMP:20231208T160601Z
URL:https://cafeculturelcitoyen.org/evenements/le-baleti-du-3c/
SUMMARY:Le Balèti du 3C !
DESCRIPTION:Le 3C et l'asso Aix Balèti vous invite pour le bal mensuel du 
 3C\, tous les 3ème vendredis du mois avec exceptionnellement de deux duos
 !\n\n\n 	CÉCILE ET LUDO\n2 diatos et des influences allant de la Bretagne
  à l'Auvergne en passant par le 3C histoire de s'ambiancer.\n\n&nbsp\;\n\
 n 	CESS ET CHRIS\nCess au diato et Chris à la cornemuse\,\nQuand les fill
 es s'en mêlent\, elles nous entraînent dans les veillées\, les soirées
 \, les p'tits bals\, pour s'en mettre plein les guiboles.\n
ATTACH;FMTTYPE=image/jpeg:https://cafeculturelcitoyen.org/wp-content/uploa
 ds/2023/12/baleti-janvier2.jpg
END:VEVENT
BEGIN:VTIMEZONE
TZID:Europe/Paris
X-LIC-LOCATION:Europe/Paris
BEGIN:STANDARD
DTSTART:20231029T020000
TZOFFSETFROM:+0200
TZOFFSETTO:+0100
TZNAME:CET
END:STANDARD
END:VTIMEZONE
END:VCALENDAR