BEGIN:VCALENDAR
VERSION:2.0
PRODID:-//wp-events-plugin.com//7.2.3.1//EN
TZID:Europe/Paris
X-WR-TIMEZONE:Europe/Paris
BEGIN:VEVENT
UID:1687@cafeculturelcitoyen.org
DTSTART;TZID=Europe/Paris:20220302T000000
DTEND;TZID=Europe/Paris:20220404T000000
DTSTAMP:20220411T125246Z
URL:https://cafeculturelcitoyen.org/evenements/le-3c-recrute/
SUMMARY:Le 3C Recrute !!
DESCRIPTION:Le 3C cherche son nouveau coordinateur ou sa nouvelle coordinat
 rice de communication et programmation. Poste à pourvoir à partir de fin
  avril. Temps partiel : 26 h / semaine. Rémunération 1190 brut. Merci de
  nous envoyer CV + lettre de motivation à cafeassociatifaixois@gmail.com\
 n\nFiche de poste complète
ATTACH;FMTTYPE=image/jpeg:https://cafeculturelcitoyen.org/wp-content/uploa
 ds/2020/06/3CEte-Ban.jpg
END:VEVENT
BEGIN:VTIMEZONE
TZID:Europe/Paris
X-LIC-LOCATION:Europe/Paris
BEGIN:STANDARD
DTSTART:20211031T020000
TZOFFSETFROM:+0200
TZOFFSETTO:+0100
TZNAME:CET
END:STANDARD
BEGIN:DAYLIGHT
DTSTART:20220327T030000
TZOFFSETFROM:+0100
TZOFFSETTO:+0200
TZNAME:CEST
END:DAYLIGHT
END:VTIMEZONE
END:VCALENDAR