BEGIN:VCALENDAR
VERSION:2.0
PRODID:-//wp-events-plugin.com//7.2.3.1//EN
TZID:Europe/Paris
X-WR-TIMEZONE:Europe/Paris
BEGIN:VEVENT
UID:1696@cafeculturelcitoyen.org
DTSTART;TZID=Europe/Paris:20220315T000000
DTEND;TZID=Europe/Paris:20220331T000000
DTSTAMP:20220316T135113Z
URL:https://cafeculturelcitoyen.org/evenements/le-3c-recherche-1-service-c
 ivique/
SUMMARY:Le 3C recherche 1 service civique
DESCRIPTION:Le 3C recherche actuellement deux services civiques (un à part
 ir du 15 mars et l’autre à partir du 2 mai).\nConditions du contrat\n- 
 Durée : 8 mois\, dès que possible à partir du 15/03/2022 et un autre à
  partir du 1/05/2022\n- 580 euros/mois\n- 26h/semaine\n- Avoir entre 18 et
  25 ans\nOn t'invite à lire la petite annonce que tu trouveras ci-jointe\
 , puis à nous envoyer ta candidature à cafeassociatifaixois@gmail.com.\n
 annonce Service Civique 3c mars 2022
ATTACH;FMTTYPE=image/jpeg:https://cafeculturelcitoyen.org/wp-content/uploa
 ds/2022/03/index.png
END:VEVENT
BEGIN:VTIMEZONE
TZID:Europe/Paris
X-LIC-LOCATION:Europe/Paris
BEGIN:STANDARD
DTSTART:20211031T020000
TZOFFSETFROM:+0200
TZOFFSETTO:+0100
TZNAME:CET
END:STANDARD
BEGIN:DAYLIGHT
DTSTART:20220327T030000
TZOFFSETFROM:+0100
TZOFFSETTO:+0200
TZNAME:CEST
END:DAYLIGHT
END:VTIMEZONE
END:VCALENDAR