BEGIN:VCALENDAR
VERSION:2.0
PRODID:-//wp-events-plugin.com//7.2.3.1//EN
TZID:Europe/Paris
X-WR-TIMEZONE:Europe/Paris
BEGIN:VEVENT
UID:2364@cafeculturelcitoyen.org
DTSTART;TZID=Europe/Paris:20230916T100000
DTEND;TZID=Europe/Paris:20230916T123000
DTSTAMP:20230909T150045Z
URL:https://cafeculturelcitoyen.org/evenements/le-3c-cleanup-day/
SUMMARY:Le 3C CleanUp day
DESCRIPTION:Tous engagés pour une planète sans déchet !\nLe 3C joint ses
  forces au mouvement\, rendez-vous le samedi 16 septembre à 10 au café p
 our aller participer au grand nettoyage planétaire !
ATTACH;FMTTYPE=image/jpeg:https://cafeculturelcitoyen.org/wp-content/uploa
 ds/2023/09/World-Cleanup-Day-FRANCE-2023-09-16.png
END:VEVENT
BEGIN:VTIMEZONE
TZID:Europe/Paris
X-LIC-LOCATION:Europe/Paris
BEGIN:DAYLIGHT
DTSTART:20230326T030000
TZOFFSETFROM:+0100
TZOFFSETTO:+0200
TZNAME:CEST
END:DAYLIGHT
END:VTIMEZONE
END:VCALENDAR