BEGIN:VCALENDAR
VERSION:2.0
PRODID:-//wp-events-plugin.com//7.2.3.1//EN
TZID:Europe/Paris
X-WR-TIMEZONE:Europe/Paris
BEGIN:VEVENT
UID:1925@cafeculturelcitoyen.org
DTSTART;TZID=Europe/Paris:20221019T190000
DTEND;TZID=Europe/Paris:20221019T223000
DTSTAMP:20221016T125619Z
URL:https://cafeculturelcitoyen.org/evenements/lancement-de-la-commission-
 bar/
SUMMARY:Lancement de la commission "Bar" et soirée Bénévoles
DESCRIPTION:Retrouvons-nous toutes et tous pour parler de l'organisation du
  bar\, appros\, snacks\, bière\, mais aussi : organisation des soirées d
 u 3C\, animation du lieu\, gestion "bienveillante" de la clientèle et des
  artistes... le tout sous forme de débats et discussions.\n\nNous consacr
 erons deux heures environ à évoquer les questions liées à la gestion e
 t l'animation du bar\, mais aussi à l'engagement en tant que bénévoles 
 : comment faciliter la tâche des bénévoles tout en garantissant une con
 tinuité du service pour client-es et adhérent-es ? Comment être plus no
 mbreux-euses\, actives-actifs à participer à la vie du café\, etc...
ATTACH;FMTTYPE=image/jpeg:https://cafeculturelcitoyen.org/wp-content/uploa
 ds/2022/10/Capture-decran-2022-10-11-110933.jpg
END:VEVENT
BEGIN:VTIMEZONE
TZID:Europe/Paris
X-LIC-LOCATION:Europe/Paris
BEGIN:DAYLIGHT
DTSTART:20220327T030000
TZOFFSETFROM:+0100
TZOFFSETTO:+0200
TZNAME:CEST
END:DAYLIGHT
END:VTIMEZONE
END:VCALENDAR