BEGIN:VCALENDAR
VERSION:2.0
PRODID:-//wp-events-plugin.com//7.2.3.1//EN
TZID:Europe/Paris
X-WR-TIMEZONE:Europe/Paris
BEGIN:VEVENT
UID:2601@cafeculturelcitoyen.org
DTSTART;TZID=Europe/Paris:20240127T200000
DTEND;TZID=Europe/Paris:20240127T213000
DTSTAMP:20231128T122525Z
URL:https://cafeculturelcitoyen.org/evenements/lalbatros-en-concert/
SUMMARY:L'Albatros en concert !
DESCRIPTION:L’Albatros est un slameur avignonnais aux influences hip-hop\
 , littéraires et militantes.\n\nInspiré par des artistes tels que Gaël 
 Faye\, Orelsan et Keny Arkana \; il nous invite sur scène à partager ses
  voyages introspectifs et ses questionnements sociétaux sur des sujets te
 ls que l'école\, l'amour\, l'anarchisme...\n\nVous pouvez retrouver L'Alb
 atros sur YouTube
ATTACH;FMTTYPE=image/jpeg:https://cafeculturelcitoyen.org/wp-content/uploa
 ds/2023/11/Lalbatros2-©LiseLefebvre.jpg
END:VEVENT
BEGIN:VTIMEZONE
TZID:Europe/Paris
X-LIC-LOCATION:Europe/Paris
BEGIN:STANDARD
DTSTART:20231029T020000
TZOFFSETFROM:+0200
TZOFFSETTO:+0100
TZNAME:CET
END:STANDARD
END:VTIMEZONE
END:VCALENDAR