BEGIN:VCALENDAR
VERSION:2.0
PRODID:-//wp-events-plugin.com//7.2.3.1//EN
TZID:Europe/Paris
X-WR-TIMEZONE:Europe/Paris
BEGIN:VEVENT
UID:1929@cafeculturelcitoyen.org
DTSTART;TZID=Europe/Paris:20221109T190000
DTEND;TZID=Europe/Paris:20221109T210000
DTSTAMP:20221012T143804Z
URL:https://cafeculturelcitoyen.org/evenements/la-part-des-autres-projecti
 on-de-film-par-artisans-du-monde/
SUMMARY:La part des autres - projection de film\, par Artisans du Monde
DESCRIPTION:En 1960 promesse a été faite aux hommes de les nourrir de man
 ière satisfaisante grâce à l’agro-industrie construite pour modernise
 r l’agriculture....Et c’est l’appauvrissement des producteurs et cel
 ui des consommateurs que l’on observe aujourd’hui. Dans les champs cé
 réaliers de Quentin ou la garrigue de Nathalie\, au détour d’une discu
 ssion sur la bonne nourriture avec David ou dans les files d’attentes de
  l’aide alimentaire\, le film permet de questionner le système dans son
  ensemble\, jusqu’à imaginer une sécurité sociale de l’alimentation
  !\n\nLa projection est suivie d'un débat avec Materne Maetz\, ancien res
 ponsable alimentation à la FAO.
ATTACH;FMTTYPE=image/jpeg:https://cafeculturelcitoyen.org/wp-content/uploa
 ds/2022/10/Capture-decran-2022-10-12-163736.jpg
END:VEVENT
BEGIN:VTIMEZONE
TZID:Europe/Paris
X-LIC-LOCATION:Europe/Paris
BEGIN:STANDARD
DTSTART:20221030T020000
TZOFFSETFROM:+0200
TZOFFSETTO:+0100
TZNAME:CET
END:STANDARD
END:VTIMEZONE
END:VCALENDAR