BEGIN:VCALENDAR
VERSION:2.0
PRODID:-//wp-events-plugin.com//7.2.3.1//EN
TZID:Europe/Paris
X-WR-TIMEZONE:Europe/Paris
BEGIN:VEVENT
UID:2576@cafeculturelcitoyen.org
DTSTART;TZID=Europe/Paris:20240110T190000
DTEND;TZID=Europe/Paris:20240110T220000
DTSTAMP:20231113T143713Z
URL:https://cafeculturelcitoyen.org/evenements/la-galette-dattac/
SUMMARY:La Galette d'Attac
DESCRIPTION:Attac pays d'Aix vous invite à partager une galette citoyenne.
 \n\nAu programme vœux\, quizz \, échanges et convivialité pour bien com
 mencer l'année 2024\n\nOn compte sur vous !
ATTACH;FMTTYPE=image/jpeg:https://cafeculturelcitoyen.org/wp-content/uploa
 ds/2023/11/Galette-citoyenne-e1699886230450.png
END:VEVENT
BEGIN:VTIMEZONE
TZID:Europe/Paris
X-LIC-LOCATION:Europe/Paris
BEGIN:STANDARD
DTSTART:20231029T020000
TZOFFSETFROM:+0200
TZOFFSETTO:+0100
TZNAME:CET
END:STANDARD
END:VTIMEZONE
END:VCALENDAR