BEGIN:VCALENDAR
VERSION:2.0
PRODID:-//wp-events-plugin.com//7.2.3.1//EN
TZID:Europe/Paris
X-WR-TIMEZONE:Europe/Paris
BEGIN:VEVENT
UID:2602@cafeculturelcitoyen.org
DTSTART;TZID=Europe/Paris:20231202T190000
DTEND;TZID=Europe/Paris:20231202T210000
DTSTAMP:20231128T123450Z
URL:https://cafeculturelcitoyen.org/evenements/la-compagnie-entre-fete-ses
 -6-ans/
SUMMARY:La Compagnie Entre ! fête ses 6 ans !
DESCRIPTION:Pour son 6ème anniversaire\, la compagnie de théâtre Entre !
  revient sur ce qui fait son ADN : constituer une interface entre des mili
 eux différents.\n\nQu’il s’agisse de l’interface entre théâtre e
 t soin ou entre théâtre et public collégien ou encore entre intérieur
  et extérieur\, entre intime et universel\, ces questions n’ont pas fin
 i de nous intéresser.\n\nAprès les spectacles « Bienvenue ! »\, « Le 
 Petit Poucet et L’Ogre »\, « Petite Sirène »\, « Tu Restes Flou et 
 Je Reste Inquiet »\, notre prochain projet de création se situe autour d
 es frontières et des origines.\n\nCes frontières qui nous séparent\, qu
 i nous entravent ou qui nous font rêver...\n\nCes frontières que nous po
 rtons aussi parfois à l’intérieur de nous-mêmes.\n\nCes frontières q
 ue seul l’amour traverse !\n\nVenez pour les poèmes\,\n\nles lectures\
 ,\n\nles petites performances\,\n\nla musique\,\n\npour échanger\,\n\npou
 r passer un moment\,\n\npour le gâteau...
ATTACH;FMTTYPE=image/jpeg:https://cafeculturelcitoyen.org/wp-content/uploa
 ds/2023/11/entre6ans-scaled.jpg
END:VEVENT
BEGIN:VTIMEZONE
TZID:Europe/Paris
X-LIC-LOCATION:Europe/Paris
BEGIN:STANDARD
DTSTART:20231029T020000
TZOFFSETFROM:+0200
TZOFFSETTO:+0100
TZNAME:CET
END:STANDARD
END:VTIMEZONE
END:VCALENDAR